BEGIN:VCALENDAR
VERSION:2.0
PRODID:-//jEvents 2.0 for Joomla//EN
CALSCALE:GREGORIAN
METHOD:PUBLISH
BEGIN:VTIMEZONE
TZID:America/New_York
END:VTIMEZONE
BEGIN:VEVENT
UID:23b66f7a607f01f83c49b04f856022b3
CATEGORIES:Prayers, Announcements
CREATED:20250403T110416
SUMMARY:Morning Pascha Service 
DESCRIPTION:
DTSTAMP:20260421T040722Z
DTSTART;TZID=America/New_York:20250416T060000
DTEND;TZID=America/New_York:20250416T073000
SEQUENCE:0
TRANSP:OPAQUE
END:VEVENT
END:VCALENDAR